BEGIN:VCALENDAR
VERSION:2.0
PRODID:icalendar-ruby
CALSCALE:GREGORIAN
METHOD:PUBLISH
BEGIN:VEVENT
DTSTAMP:20260424T193147Z
UID:8-314881@pbcshawboro.com
DTSTART:20261101T160000Z
DTEND:20261101T170000Z
CLASS:PUBLIC
CREATED:20260424T140329
DESCRIPTION:
LAST-MODIFIED:20260424T140329
LOCATION:Providence Baptist Church
SUMMARY:Worship Service
URL;VALUE=URI:https://pbcshawboro.com/events/worship-service--8/2026-11-01
ATTACH;FILENAME=16092624_2048x1367_2500.jpg;FMTTYPE=image/jpeg:https://dq5p
 wpg1q8ru0.cloudfront.net/2025/12/07/16/29/30/e8e04d10-a2ae-4ef4-8e8f-bbd50
 4cf5e5a/16092624_2048x1367_2500.jpg
END:VEVENT
END:VCALENDAR
